BEGIN:VCALENDAR
VERSION:2.0
PRODID:-//Auckland Thoroughbred Racing //NONSGML Events //EN
CALSCALE:GREGORIAN
X-WR-CALNAME:Auckland Thoroughbred Racing
BEGIN:VEVENT
CREATED:20260422T140410Z
UID:1323
DTEND;TZID=Pacific/Auckland:20260111T053900
DTSTART;TZID=Pacific/Auckland:20260111T050900
DTSTAMP:20260423T020410
LOCATION:100 Ascot Avenue\, Remuera\, Auckland 1051\, New Zealand
SUMMARY:Gingernuts Salver Raceday - HORIZON BY SKYCITY 1600
ORGANIZER:Auckland Thoroughbred Racing
URL;VALUE=URI:https://www.aucklandracing.co.nz/racedays/gingernuts-salver-raceday/
TRANSP:OPAQUE
END:VEVENT
END:VCALENDAR
