BEGIN:VCALENDAR
VERSION:2.0
PRODID:-//Auckland Thoroughbred Racing //NONSGML Events //EN
CALSCALE:GREGORIAN
X-WR-CALNAME:Auckland Thoroughbred Racing
BEGIN:VEVENT
CREATED:20260422T140511Z
UID:1323
DTEND;TZID=Pacific/Auckland:20260111T024100
DTSTART;TZID=Pacific/Auckland:20260111T021100
DTSTAMP:20260423T020511
LOCATION:100 Ascot Avenue\, Remuera\, Auckland 1051\, New Zealand
SUMMARY:Gingernuts Salver Raceday - CLOUDSOFT ACCOUNTING 1500
ORGANIZER:Auckland Thoroughbred Racing
URL;VALUE=URI:https://www.aucklandracing.co.nz/racedays/gingernuts-salver-raceday/
TRANSP:OPAQUE
END:VEVENT
END:VCALENDAR
